{"text_format":"3","workbook":"xlsx","n_sheets":2,"sheets":["Sheet1 (2)","Sheet1"],"not_rendered":{"external_links":1,"defined_names":1},"read":"whole","date_system":"1900"}

{"sheet":"Sheet1 (2)","index":0,"n_rows":150,"n_cols":8,"rows_kept":150,"merged":[[0,0,0,7],[1,0,2,0],[1,1,2,1],[1,2,2,2],[1,3,2,3],[1,4,2,4],[1,5,2,5],[1,6,2,6],[1,7,2,7]]}
["设备清单"]
["序号","设备编号","设备名称","深圳资产编码","型号规格","数量","购买日期","摆放位置"]
[]
[1,"245-002","液压手推车",null,"CP10S-100H",1,2005.4,"东莞4F闲置区仓库"]
[2,"461-001","全自动固晶机",{"$f":"VLOOKUP(B5,[1]福日设备!$F$3:$I$150,4,FALSE)","v":"F0101-0001"},"AD86",1,2014.1,"东莞3F焊线区域"]
[3,"461-002","全自动固晶机",{"$f":"VLOOKUP(B6,[1]福日设备!$F$3:$I$150,4,FALSE)","v":"F0101-0005"},"AD86",1,2014.1,"东莞3F焊线区域"]
[4,"461-003","全自动固晶机",{"$f":"VLOOKUP(B7,[1]福日设备!$F$3:$I$150,4,FALSE)","v":"F0101-0012"},"AD86",1,2014.1,"东莞3F焊线区域"]
[5,"461-004","全自动固晶机",{"$f":"VLOOKUP(B8,[1]福日设备!$F$3:$I$150,4,FALSE)","v":"F0101-0002"},"AD86",1,2014.1,"东莞3F焊线区域"]
[6,"461-005","全自动固晶机",{"$f":"VLOOKUP(B9,[1]福日设备!$F$3:$I$150,4,FALSE)","v":"F0101-0004"},"AD86",1,2014.1,"东莞3F焊线区域"]
[7,"461-006","全自动固晶机",{"$f":"VLOOKUP(B10,[1]福日设备!$F$3:$I$150,4,FALSE)","v":"F0101-0013"},"AD86",1,2014.1,"东莞3F焊线区域"]
[8,"461-007","全自动固晶机",{"$f":"VLOOKUP(B11,[1]福日设备!$F$3:$I$150,4,FALSE)","v":"F0101-0014"},"AD86",1,2014.1,"东莞3F焊线区域"]
[9,"461-008","全自动固晶机",{"$f":"VLOOKUP(B12,[1]福日设备!$F$3:$I$150,4,FALSE)","v":"F0101-0015"},"AD86",1,2014.1,"东莞3F焊线区域"]
[10,"461-009","全自动固晶机",{"$f":"VLOOKUP(B13,[1]福日设备!$F$3:$I$150,4,FALSE)","v":"F0101-0016"},"AD86",1,2014.1,"东莞3F焊线区域"]
[11,"461-010","全自动固晶机",{"$f":"VLOOKUP(B14,[1]福日设备!$F$3:$I$150,4,FALSE)","v":"F0101-0003"},"AD86",1,2014.1,"东莞3F焊线区域"]
[12,"461-011","全自动固晶机",{"$f":"VLOOKUP(B15,[1]福日设备!$F$3:$I$150,4,FALSE)","v":"F0101-0006"},"AD86",1,2014.1,"东莞3F焊线区域"]
[13,"461-012","全自动固晶机",{"$f":"VLOOKUP(B16,[1]福日设备!$F$3:$I$150,4,FALSE)","v":"F0101-0007"},"AD86",1,2014.1,"东莞3F焊线区域"]
[14,"461-013","全自动固晶机",{"$f":"VLOOKUP(B17,[1]福日设备!$F$3:$I$150,4,FALSE)","v":"F0101-0008"},"AD86",1,2014.1,"东莞3F焊线区域"]
[15,"461-014","全自动固晶机",{"$f":"VLOOKUP(B18,[1]福日设备!$F$3:$I$150,4,FALSE)","v":"F0101-0009"},"AD86",1,2014.1,"东莞3F焊线区域"]
[16,"461-015","全自动固晶机",{"$f":"VLOOKUP(B19,[1]福日设备!$F$3:$I$150,4,FALSE)","v":"F0101-0010"},"AD86",1,2014.1,"东莞3F焊线区域"]
[17,"461-016","全自动固晶机",{"$f":"VLOOKUP(B20,[1]福日设备!$F$3:$I$150,4,FALSE)","v":"F0101-0011"},"AD86",1,2014.1,"东莞3F焊线区域"]
[18,"461-017","全自动焊线机",{"$f":"VLOOKUP(B21,[1]福日设备!$F$3:$I$150,4,FALSE)","v":"F0102-0005"},"AB350",1,2014.1,"东莞3F焊线区域"]
[19,"461-018","全自动焊线机",{"$f":"VLOOKUP(B22,[1]福日设备!$F$3:$I$150,4,FALSE)","v":"F0102-0004"},"AB350",1,2014.1,"东莞3F焊线区域"]
[20,"461-019","全自动焊线机",{"$f":"VLOOKUP(B23,[1]福日设备!$F$3:$I$150,4,FALSE)","v":"F0102-0007"},"AB350",1,2014.1,"东莞3F焊线区域"]
[21,"461-020","全自动焊线机",{"$f":"VLOOKUP(B24,[1]福日设备!$F$3:$I$150,4,FALSE)","v":"F0102-0002"},"AB350",1,2014.1,"东莞3F焊线区域"]
[22,"461-021","全自动焊线机",{"$f":"VLOOKUP(B25,[1]福日设备!$F$3:$I$150,4,FALSE)","v":"F0102-0020"},"AB350",1,2014.1,"东莞3F焊线区域"]
[23,"461-022","全自动焊线机",{"$f":"VLOOKUP(B26,[1]福日设备!$F$3:$I$150,4,FALSE)","v":"F0102-0021"},"AB350",1,2014.1,"东莞3F焊线区域"]
[24,"461-023","全自动焊线机",{"$f":"VLOOKUP(B27,[1]福日设备!$F$3:$I$150,4,FALSE)","v":"F0102-0022"},"AB350",1,2014.1,"东莞3F焊线区域"]
[25,"461-024","全自动焊线机",{"$f":"VLOOKUP(B28,[1]福日设备!$F$3:$I$150,4,FALSE)","v":"F0102-0023"},"AB350",1,2014.1,"东莞3F焊线区域"]
[26,"461-025","全自动焊线机",{"$f":"VLOOKUP(B29,[1]福日设备!$F$3:$I$150,4,FALSE)","v":"F0102-0024"},"AB350",1,2014.1,"东莞3F焊线区域"]
[27,"461-026","全自动焊线机",{"$f":"VLOOKUP(B30,[1]福日设备!$F$3:$I$150,4,FALSE)","v":"F0102-0008"},"AB350",1,2014.1,"东莞3F焊线区域"]
[28,"461-027","全自动焊线机",{"$f":"VLOOKUP(B31,[1]福日设备!$F$3:$I$150,4,FALSE)","v":"F0102-0006"},"AB350",1,2014.1,"东莞3F焊线区域"]
[29,"461-028","全自动焊线机",{"$f":"VLOOKUP(B32,[1]福日设备!$F$3:$I$150,4,FALSE)","v":"F0102-0001"},"AB350",1,2014.1,"东莞3F焊线区域"]
[30,"461-029","全自动焊线机",{"$f":"VLOOKUP(B33,[1]福日设备!$F$3:$I$150,4,FALSE)","v":"F0102-0003"},"AB350",1,2014.1,"东莞3F焊线区域"]
[31,"461-030","全自动焊线机",{"$f":"VLOOKUP(B34,[1]福日设备!$F$3:$I$150,4,FALSE)","v":"F0102-0025"},"AB350",1,2014.1,"东莞3F焊线区域"]
[32,"461-031","全自动焊线机",{"$f":"VLOOKUP(B35,[1]福日设备!$F$3:$I$150,4,FALSE)","v":"F0102-0009"},"AB350",1,2014.1,"东莞3F焊线区域"]
[33,"461-032","全自动焊线机",{"$f":"VLOOKUP(B36,[1]福日设备!$F$3:$I$150,4,FALSE)","v":"F0102-0010"},"AB350",1,2014.1,"东莞3F焊线区域"]
[34,"461-033","全自动焊线机",{"$f":"VLOOKUP(B37,[1]福日设备!$F$3:$I$150,4,FALSE)","v":"F0102-0011"},"AB350",1,2014.1,"东莞3F焊线区域"]
[35,"461-034","全自动焊线机",{"$f":"VLOOKUP(B38,[1]福日设备!$F$3:$I$150,4,FALSE)","v":"F0102-0012"},"AB350",1,2014.1,"东莞3F焊线区域"]
[36,"461-035","全自动焊线机",{"$f":"VLOOKUP(B39,[1]福日设备!$F$3:$I$150,4,FALSE)","v":"F0102-0013"},"AB350",1,2014.1,"东莞3F焊线区域"]
[37,"461-036","全自动焊线机",{"$f":"VLOOKUP(B40,[1]福日设备!$F$3:$I$150,4,FALSE)","v":"F0102-0014"},"AB350",1,2014.1,"东莞3F焊线区域"]
[38,"461-037","全自动焊线机",{"$f":"VLOOKUP(B41,[1]福日设备!$F$3:$I$150,4,FALSE)","v":"F0102-0015"},"AB350",1,2014.1,"东莞3F焊线区域"]
[39,"461-038","全自动焊线机",{"$f":"VLOOKUP(B42,[1]福日设备!$F$3:$I$150,4,FALSE)","v":"F0102-0016"},"AB350",1,2014.1,"东莞3F焊线区域"]
[40,"461-039","全自动焊线机",{"$f":"VLOOKUP(B43,[1]福日设备!$F$3:$I$150,4,FALSE)","v":"F0102-0017"},"AB350",1,2014.1,"东莞3F焊线区域"]
[41,"461-040","全自动焊线机",{"$f":"VLOOKUP(B44,[1]福日设备!$F$3:$I$150,4,FALSE)","v":"F0102-0018"},"AB350",1,2014.1,"东莞3F焊线区域"]
[42,"461-041","全自动焊线机",{"$f":"VLOOKUP(B45,[1]福日设备!$F$3:$I$150,4,FALSE)","v":"F0102-0019"},"AB350",1,2014.1,"东莞3F焊线区域"]
[43,"461-042","点胶机",{"$f":"VLOOKUP(B46,[1]福日设备!$F$3:$I$150,4,FALSE)","v":"F0103-0001"},"SM300+MPP-1",1,2014.1,"东莞4F闲置区仓库"]
[44,"461-044","点胶机",{"$f":"VLOOKUP(B47,[1]福日设备!$F$3:$I$150,4,FALSE)","v":"F0103-0003"},"SM300+MPP-1",1,2014.1,"东莞4F闲置区仓库"]
[45,"461-046","点胶机",{"$f":"VLOOKUP(B48,[1]福日设备!$F$3:$I$150,4,FALSE)","v":"F0103-0005"},"SM300+MPP-1",1,2014.1,"东莞4F闲置区仓库"]
[46,"461-062","点胶机",{"$f":"VLOOKUP(B49,[1]福日设备!$F$3:$I$150,4,FALSE)","v":"F0103-0006"},"SM300+MPP-1",1,2014.12,"东莞4F闲置区仓库"]
[47,"461-065","点胶机",{"$f":"VLOOKUP(B50,[1]福日设备!$F$3:$I$150,4,FALSE)","v":"F0103-0009"},"SM300+MPP-1",1,2014.12,"东莞4F闲置区仓库"]
[48,"461-066","点胶机",{"$f":"VLOOKUP(B51,[1]福日设备!$F$3:$I$150,4,FALSE)","v":"F0103-0010"},"SM300+MPP-1",1,2014.12,"东莞4F闲置区仓库"]
[49,"462-044","真空脱泡搅拌机",{"$f":"VLOOKUP(B52,[1]福日设备!$F$3:$I$150,4,FALSE)","v":"F0109-0006"},"ARV-310",1,2014.11,"东莞4F闲置区仓库"]
[50,"462-045","真空脱泡搅拌机",{"$f":"VLOOKUP(B53,[1]福日设备!$F$3:$I$150,4,FALSE)","v":"F0109-0007"},"ARV-310",1,2014.11,"东莞4F闲置区仓库"]
[51,"462-079","六门式电子防潮箱",{"$f":"VLOOKUP(B54,[1]福日设备!$F$3:$I$150,4,FALSE)","v":"F0107-0001"},"MD-1490-6",1,2014.12,"东莞4F闲置区仓库"]
[52,"462-080","六门式电子防潮箱",{"$f":"VLOOKUP(B55,[1]福日设备!$F$3:$I$150,4,FALSE)","v":"F0107-0002"},"MD-1490-6",1,2014.12,"东莞4F闲置区仓库"]
[53,"462-081","六门式电子防潮箱",{"$f":"VLOOKUP(B56,[1]福日设备!$F$3:$I$150,4,FALSE)","v":"F0107-0003"},"MD-1490-6",1,2014.12,"东莞4F闲置区仓库"]
[54,"462-082","六门式电子防潮箱",{"$f":"VLOOKUP(B57,[1]福日设备!$F$3:$I$150,4,FALSE)","v":"F0107-0004"},"MD-1490-6",1,2014.12,"东莞4F闲置区仓库"]
[55,"462-083","六门式电子防潮箱",{"$f":"VLOOKUP(B58,[1]福日设备!$F$3:$I$150,4,FALSE)","v":"F0107-0005"},"MD-1490-6",1,2014.12,"东莞4F闲置区仓库"]
[56,"462-084","六门式电子防潮箱",{"$f":"VLOOKUP(B59,[1]福日设备!$F$3:$I$150,4,FALSE)","v":"F0107-0006"},"MD-1490-6",1,2014.12,"东莞4F闲置区仓库"]
[57,"462-085","六门式电子防潮箱",{"$f":"VLOOKUP(B60,[1]福日设备!$F$3:$I$150,4,FALSE)","v":"F0107-0007"},"MD-1490-6",1,2014.12,"东莞4F闲置区仓库"]
[58,"462-086","六门式电子防潮箱",{"$f":"VLOOKUP(B61,[1]福日设备!$F$3:$I$150,4,FALSE)","v":"F0107-0008"},"MD-1490-6",1,2014.12,"东莞4F闲置区仓库"]
[59,"462-087","六门式电子防潮箱",{"$f":"VLOOKUP(B62,[1]福日设备!$F$3:$I$150,4,FALSE)","v":"F0107-0009"},"MD-1490-6",1,2014.12,"东莞4F闲置区仓库"]
[60,"462-088","六门式电子防潮箱",{"$f":"VLOOKUP(B63,[1]福日设备!$F$3:$I$150,4,FALSE)","v":"F0107-0010"},"MD-1490-6",1,2014.12,"东莞4F闲置区仓库"]
[61,"462-089","六门式电子防潮箱",{"$f":"VLOOKUP(B64,[1]福日设备!$F$3:$I$150,4,FALSE)","v":"F0107-0015"},"MD-1490-6",1,2014.12,"东莞4F闲置区仓库"]
[62,"462-090","六门式电子防潮箱",{"$f":"VLOOKUP(B65,[1]福日设备!$F$3:$I$150,4,FALSE)","v":"F0107-0016"},"MD-1490-6",1,2014.12,"东莞4F闲置区仓库"]
[63,"462-091","六门式电子防潮箱",{"$f":"VLOOKUP(B66,[1]福日设备!$F$3:$I$150,4,FALSE)","v":"F0107-0017"},"MD-1490-6",1,2014.12,"东莞4F闲置区仓库"]
[64,"462-092","六门式电子防潮箱",{"$f":"VLOOKUP(B67,[1]福日设备!$F$3:$I$150,4,FALSE)","v":"F0107-0019"},"MD-1490-6",1,2014.12,"东莞4F闲置区仓库"]
[65,"462-093","电子防潮柜",{"$f":"VLOOKUP(B68,[1]福日设备!$F$3:$I$150,4,FALSE)","v":"F0107-0020"},"MD-1490-6",1,2014.12,"东莞4F闲置区仓库"]
[66,"462-094","六门式电子防潮箱",{"$f":"VLOOKUP(B69,[1]福日设备!$F$3:$I$150,4,FALSE)","v":"F0107-0021"},"MD-1490-6",1,2014.12,"东莞4F闲置区仓库"]
[67,"462-095","六门式电子防潮箱",{"$f":"VLOOKUP(B70,[1]福日设备!$F$3:$I$150,4,FALSE)","v":"F0107-0018"},"MD-1490-6",1,2014.12,"东莞4F闲置区仓库"]
[68,"462-096","六门式电子防潮箱",{"$f":"VLOOKUP(B71,[1]福日设备!$F$3:$I$150,4,FALSE)","v":"F0107-0022"},"MD-1490-6",1,2014.12,"东莞4F闲置区仓库"]
[69,"462-097","六门式电子防潮箱",{"$f":"VLOOKUP(B72,[1]福日设备!$F$3:$I$150,4,FALSE)","v":"F0107-0023"},"MD-1490-6",1,2014.12,"东莞4F闲置区仓库"]
[70,"462-098","六门式电子防潮箱",{"$f":"VLOOKUP(B73,[1]福日设备!$F$3:$I$150,4,FALSE)","v":"F0107-0024"},"MD-1490-6",1,2014.12,"东莞4F闲置区仓库"]
[71,"462-100","电子防潮柜",{"$f":"VLOOKUP(B74,[1]福日设备!$F$3:$I$150,4,FALSE)","v":"F0107-0026"},"GP-1000L",1,2014.12,"东莞4F闲置区仓库"]
[72,"462-101","电子防潮柜",{"$f":"VLOOKUP(B75,[1]福日设备!$F$3:$I$150,4,FALSE)","v":"F0107-0011"},"GP-1000L",1,2014.12,"东莞4F闲置区仓库"]
[73,"462-102","电子防潮柜",{"$f":"VLOOKUP(B76,[1]福日设备!$F$3:$I$150,4,FALSE)","v":"F0107-0012"},"GP-1000L",1,2014.12,"东莞4F闲置区仓库"]
[74,"462-103","电子防潮柜",{"$f":"VLOOKUP(B77,[1]福日设备!$F$3:$I$150,4,FALSE)","v":"F0107-0013"},"GP-1000L",1,2014.12,"东莞4F闲置区仓库"]
[75,"462-104","电子防潮柜",{"$f":"VLOOKUP(B78,[1]福日设备!$F$3:$I$150,4,FALSE)","v":"F0107-0014"},"GP-1000L",1,2014.12,"东莞4F闲置区仓库"]
[76,"463-019","光电专用精密烘箱",{"$f":"VLOOKUP(B79,[1]福日设备!$F$3:$I$150,4,FALSE)","v":"F0108-0025"},"KLED-602",1,2014.9,"东莞4F闲置区仓库"]
[77,"494-027-036","smt大料车",null,"非标",10,2008.05,"东莞4F闲置区仓库"]
[78,null,"技改（460-021）",null,null,1,null,"东莞4F闲置区仓库"]
[79,"363-001","显微镜","F0109-0019","无",1,"2001-12-01","惠州3楼闲置仓库"]
[80,"363-002","显微镜","F0109-0020","无",1,"2001-12-01","惠州3楼闲置仓库"]
[81,"363-003","显微镜","F0109-0021","无",1,"2001-12-01","惠州3楼闲置仓库"]
[82,"363-004","显微镜","F0109-0022","无",1,"2001-12-01","惠州3楼闲置仓库"]
[83,"363-005","显微镜","F0109-0023","无",1,"2001-12-01","惠州3楼闲置仓库"]
[84,"363-006","显微镜","F0109-0024","无",1,"2001-12-01","惠州3楼闲置仓库"]
[85,"460-012","自动金线球焊线机","F0102-0029","IHAWK-W",1,"2008-12-01","惠州3楼闲置仓库"]
[86,"460-015","全自动银浆固晶机","F0101-0018","AD862",1,"2012-02-01","惠州3楼闲置仓库"]
[87,"460-017","全自动金线球焊线机","F0102-0028","IHAWK-V",1,"2011-10-01","惠州3楼闲置仓库"]
[88,"460-018","全自动银浆固晶机","F0101-0017","AD862",1,"2011-10-01","惠州3楼闲置仓库"]
[89,"460-020","全自动金丝线球焊线机","F0102-0026","IHAWK-V",1,"2012-02-01","惠州3楼闲置仓库"]
[90,"460-023","全自动金丝线球焊线机","F0102-0027","IHAWK-V",1,"2012-02-01","惠州3楼闲置仓库"]
[91,"462-011","测试仪","F0109-0031","XH-3006",1,"2012-03-01","惠州3楼闲置仓库"]
[92,"462-012","离子风机","F0109-0017","SLD-5600",1,"2002-11-01","惠州3楼闲置仓库"]
[93,"462-013","气动二切机","F0109-0018","无",1,"2003-02-01","惠州3楼闲置仓库"]
[94,"462-024","二切机","F0109-0030","无",1,"2009-02-01","惠州3楼闲置仓库"]
[95,"462-025","自动散装LED切脚机（在照明）","F0109-0027","GH904C",1,"2009-12-01","惠州3楼闲置仓库"]
[96,"462-032","搅拌机","F0109-0026","气动RS-212",1,"2011-12-01","惠州3楼闲置仓库"]
[97,"462-035","全自动切脚机（在照明）","F0109-0032","YH-20A",1,"2012-02-01","惠州3楼闲置仓库"]
[98,"462-036","全切机","F0109-0025","无",1,"2012-03-01","惠州3楼闲置仓库"]
[99,"462-043","二切机","F0109-0038","30连体立式",1,2014.1,"惠州3楼闲置仓库"]
[100,"462-046","6寸扩晶机","F0109-0001","MD-3000A",1,2014.12,"惠州3楼闲置仓库"]
[101,"462-099","电子防潮柜","F0107-0025","GP-1000L",1,2014.12,"惠州3楼闲置仓库"]
[102,"463-001","单色点阵分选台","F0109-0015","Ø3.7  5*7",1,"2003-01-01","惠州3楼闲置仓库"]
[103,"463-002","单色点阵分选台","F0109-0016","Ø3.7  5*7",1,"2003-01-01","惠州3楼闲置仓库"]
[104,"463-007","点阵分光分色机","F0109-0028","无",1,"2007-09-01","惠州3楼闲置仓库"]
[105,"463-008","点阵分光分色机","F0109-0029","无",1,"2007-09-01","惠州3楼闲置仓库"]
[106,"463-014","金相显微镜","F0109-0008","GSM-300B",1,2014.9,"惠州3楼闲置仓库"]
[107,"463-018","三槽式（风冷式）冷热冲击试验机","F0109-0004","K-TS-49A",1,2014.9,"惠州3楼闲置仓库"]
[108,"481-008","搅拌机","F0109-0037",null,1,2014.1,"惠州3楼闲置仓库"]
[109,"482-001-002","贴片机",null,"KE-2060M",2,"2009年前","惠州5楼C栋闲置仓库"]
[110,"482-029","贴片机",null,"XP-143E",1,"2009年前","惠州5楼C栋闲置仓库"]
[111,null,"XP-143飞达车(2)",null,"非标",2,"2009年前","惠州5楼C栋闲置仓库"]
[112,"482-038","紧凑式多功能贴片机",null,"XP-243E",1,"2009年前","惠州5楼C栋闲置仓库"]
[113,"482-043","紧凑式高速贴片机",null,"XP-143E",1,"2009年前","惠州5楼C栋闲置仓库"]
[114,"482-067","X射线透视检查装置",null,"SMX-1000",1,"2009年前","惠州5楼C栋闲置仓库"]
[115,"482-069","高速贴片机",null,"KE-2060M",1,"2009年前","惠州5楼C栋闲置仓库"]
[116,"245-003","液压手推车",null,"CP10S-100H",1,"2009年前","惠州5楼C栋闲置仓库"]
[117,"245-004","液压手推车",null,"CP10S-100H",1,"2009年前","惠州5楼C栋闲置仓库"]
[118,"462-009","烘箱",null,"SWY-3",1,"2009年前","惠州5楼C栋闲置仓库"]
[119,"462-011","烘箱",null,"SWY-3",1,"2009年前","惠州5楼C栋闲置仓库"]
[120,"921-054","除湿机",null,"DH-902BS",1,"2009年前","惠州5楼C栋闲置仓库"]
[121,"921-055","除湿机",null,"DH-903BS",1,"2009年前","惠州5楼C栋闲置仓库"]
[122,"482-030","贴片机",null,"XP-143E",1,"2009年前","惠州5楼C栋闲置仓库"]
[123,"482-068","高速贴片机",null,"KE-2060M技改",1,"2009年前","惠州5楼C栋闲置仓库"]
[124,"494-040","风淋室",null,"AS-1590/O-KLC(1590*1500*2180)",1,"2009年前","惠州5楼C栋闲置仓库"]
[125,"471-101","自动立式插件机",null,"XG-3000-20",1,"2009年前","惠州5楼C栋闲置仓库"]
[126,"482-110","灌胶机",null,"PG-700",1,"2009年前","惠州5楼C栋闲置仓库"]
[127,"471-103","全自动高速LED编带机",null,"YC-320A",1,"2009年前","惠州5楼C栋闲置仓库"]
[128,"471-104","全自动高速LED编带机",null,"YC-320A",1,"2009年前","惠州5楼C栋闲置仓库"]
[129,"471-110","自动立式插件机",null,"XG-3000-20",1,"2009年前","惠州5楼C栋闲置仓库"]
[130,"471-111","自动立式插件机",null,"XG-3000-20",1,"2009年前","惠州5楼C栋闲置仓库"]
[131,"471-106","编带机",null,"Y7-320A",1,"2009年前","惠州5楼C栋闲置仓库"]
[132,"471-107","编带机",null,"Y7-320A",1,"2009年前","惠州5楼C栋闲置仓库"]
[133,"462-047","内抽式真空包装机",null,"MD-680B-500",1,"2009年前","惠州5楼C栋闲置仓库"]
[134,"462-033","电子控湿机",null,"BLAN-K2000(D)",1,"2009年前","惠州5楼C栋闲置仓库"]
[135,"482-017","超声波洗净机",null,null,1,"2009年前","惠州5楼C栋闲置仓库"]
[136,null,"SMT小部料车(10)",null,"非标",10,"2009年前","惠州5楼C栋闲置仓库"]
[137,"362-004","电子精密天平",null,"BL-400G",1,"2009年前","惠州5楼C栋闲置仓库"]
[138,"494-039","无铅台式焊锡炉",null,"2820T",1,"2009年前","惠州5楼C栋闲置仓库"]
[139,"499-025","模拟运输振动台",null,"JY-260T",1,"2009年前","惠州5楼C栋闲置仓库"]
[140,"471-102","插件机配件弯刀一套",null,null,1,"2009年前","惠州5楼C栋闲置仓库"]
[141,"463-017","盐雾试验机",null,"K-YW-108",1,"2009年前","惠州5楼C栋闲置仓库"]
[142,"499-003","海尔冷柜",null,"LC-158BP",1,"2009年前","惠州5楼C栋闲置仓库"]
[143,"462-006","锡炉",null,"无",1,"2009年前","惠州5楼C栋闲置仓库"]
[144,"362-001","电子天平",null,"无",1,"2009年前","惠州5楼C栋闲置仓库"]
[145,"491-119","喷墨打印机",null,"爱普生L301",1,"2009年前","惠州5楼C栋闲置仓库"]
[146,"493-103","针式打印机",null,"LQ-630K",1,"2009年前","惠州5楼C栋闲置仓库"]
[{"$nulls":4},"合计",{"$f":"SUM(F4:F149)","v":166}]

{"sheet":"Sheet1","index":1,"n_rows":0,"n_cols":0,"rows_kept":0}